BEGIN:VCALENDAR
VERSION:2.0
PRODID:-//The Organic Teaching Kitchen - ECPv6.15.13//NONSGML v1.0//EN
CALSCALE:GREGORIAN
METHOD:PUBLISH
X-WR-CALNAME:The Organic Teaching Kitchen
X-ORIGINAL-URL:https://theorganicteachingkitchen.com
X-WR-CALDESC:Events for The Organic Teaching Kitchen
REFRESH-INTERVAL;VALUE=DURATION:PT1H
X-Robots-Tag:noindex
X-PUBLISHED-TTL:PT1H
BEGIN:VTIMEZONE
TZID:America/New_York
BEGIN:DAYLIGHT
TZOFFSETFROM:-0500
TZOFFSETTO:-0400
TZNAME:EDT
DTSTART:20230312T070000
END:DAYLIGHT
BEGIN:STANDARD
TZOFFSETFROM:-0400
TZOFFSETTO:-0500
TZNAME:EST
DTSTART:20231105T060000
END:STANDARD
BEGIN:DAYLIGHT
TZOFFSETFROM:-0500
TZOFFSETTO:-0400
TZNAME:EDT
DTSTART:20240310T070000
END:DAYLIGHT
BEGIN:STANDARD
TZOFFSETFROM:-0400
TZOFFSETTO:-0500
TZNAME:EST
DTSTART:20241103T060000
END:STANDARD
BEGIN:DAYLIGHT
TZOFFSETFROM:-0500
TZOFFSETTO:-0400
TZNAME:EDT
DTSTART:20250309T070000
END:DAYLIGHT
BEGIN:STANDARD
TZOFFSETFROM:-0400
TZOFFSETTO:-0500
TZNAME:EST
DTSTART:20251102T060000
END:STANDARD
BEGIN:DAYLIGHT
TZOFFSETFROM:-0500
TZOFFSETTO:-0400
TZNAME:EDT
DTSTART:20260308T070000
END:DAYLIGHT
BEGIN:STANDARD
TZOFFSETFROM:-0400
TZOFFSETTO:-0500
TZNAME:EST
DTSTART:20261101T060000
END:STANDARD
BEGIN:DAYLIGHT
TZOFFSETFROM:-0500
TZOFFSETTO:-0400
TZNAME:EDT
DTSTART:20270314T070000
END:DAYLIGHT
BEGIN:STANDARD
TZOFFSETFROM:-0400
TZOFFSETTO:-0500
TZNAME:EST
DTSTART:20271107T060000
END:STANDARD
END:VTIMEZONE
BEGIN:VTIMEZONE
TZID:UTC
BEGIN:STANDARD
TZOFFSETFROM:+0000
TZOFFSETTO:+0000
TZNAME:UTC
DTSTART:20240101T000000
END:STANDARD
END:VTIMEZONE
BEGIN:VEVENT
DTSTART;TZID=America/New_York:20241014T190000
DTEND;TZID=America/New_York:20241014T200000
DTSTAMP:20260423T070605
CREATED:20240404T034607Z
LAST-MODIFIED:20241021T210809Z
UID:6639-1728932400-1728936000@theorganicteachingkitchen.com
SUMMARY:Mindful Mondays With Yoga\, Breath Work &.....
DESCRIPTION:MINDFUL MONDAYS W/YOGA\, BREATH WORK & MEDITATION! \n Join us for a 60-minute decompressing and grounding evening with Jacqueline as she guides you through a gentle yoga sequence followed by the enchanting sounds of Quartz Crystal Singing Bowls.  \nBe ready to journey within as you soak up the powerful vibrations of the bowls. This serene and rejuvenating experience will help you unwind and reconnect with your inner self. Don’t miss this unique opportunity to harness and find your inner peace.” \n\nWHEN: Monday\,  Oct 21st 7:00pm \nWHERE: MINDFUL CROTON @ The Organic Teaching Kitchen \nCOST: $25 Pre-registration is required \nRSVP    \nJacqueline Gorton was born in California\, raised in Colorado\, and recently relocated from Austin\, Texas\, to start afresh in New York. Known for her nomadic\, free-spirited nature\, she shares a deep passion for traveling solo alongside her dedication to the healing arts. \n\nHer journey into holistic and mindful practices began a decade ago when her father was diagnosed with stage 4 esophageal cancer and passed away shortly after. Seeking solace\, she enrolled in a yoga teacher training program through Shambava in Denver\, Colorado. The teachings of Asanas (yoga postures)\, Meditation\, and Bhakti (devotional yoga) from her training provided profound comfort during her time of grief. \nSince completing her yoga teacher training\, Jacqueline has continued to dive into the healing arts. She is deeply committed to nurturing the mind\, body\, and spirit through guiding yoga\, meditation\, sound healing\, and bodywork. \nInstagram: https://www.instagram.com/travelintaurus/\nHeal with Jacqueline: https://mindfulcoachingforwomen.com/
URL:https://theorganicteachingkitchen.com/event/gentle-yoga-meditation/
LOCATION:NY
CATEGORIES:21-Day Cleanse,clean eating,Cooking,DAIRY FREE COOKING,dairy free ice cream,Gluten Free,Health Fats,HOME SCHOOL,Kids Cook,kids cooking,Meditation,mind body balance,Mindful Croton,Nutrition Bootcamp,organic cooking,organic cooking class,Organic Gardening,reiki,Snacks,Soup,Sugar Seduction Workshop,Superfoods,Sweet Tooth,vegan ice cream
END:VEVENT
BEGIN:VEVENT
DTSTART;VALUE=DATE:20250703
DTEND;VALUE=DATE:20250825
DTSTAMP:20260423T070605
CREATED:20150906T060425Z
LAST-MODIFIED:20250703T212732Z
UID:2441-1751500800-1756079999@theorganicteachingkitchen.com
SUMMARY:KIDS SUMMER  COOKING CLASSES
DESCRIPTION:WANT YOUR KIDS TO EAT THEIR VEGGIES? \nGive your kids an essential life skill gift of healthy habits with private or small group organic cooking lessons—fun\, hands-on sessions designed just for little chefs! The Organic Teaching Kitchen’s Summer Cooking sessions are designed to empower your kids to cook simple\, tasty\, healthy meals & snacks. \nWe pride ourselves on using freshly harvested herbs from The Teaching Garden and local organic ingredients free of additives\, dyes\, pesticides & GMO’s. \nGLUTEN-FREE & VEGETARIAN FRIENDLY \nWHAT THEY WILL EXPERIENCE:\n✅ Learning to cook with fresh\, organic ingredients✅ Creating colorful\, healthy meals & snacks✅ Boosting confidence in the kitchen✅Learn how to use cooking equipment; food processor\, blenders\, mixers etc.\n✅Learn how to measure\, sauté\, whisk✅ Trying new foods the fun way \nWHERE: TOTK 18 Old Post Road S\, Croton \nCOST:$50/per kid / Minimum 4 kids to create group \nPrivate & semi private available too \nEMAIL To schedule a date
URL:https://theorganicteachingkitchen.com/event/kidscookingclass/
LOCATION:The Organic Teaching Kitchen\, 18  Old Post Road South\, Croton-on-Hudson\, NY\, 10520\, United States
CATEGORIES:clean eating,Cooking,Gluten Free,HOME SCHOOL,Kids Cook,kids cooking,Nutrition Bootcamp,organic cooking,organic cooking class,Snacks
ATTACH;FMTTYPE=image/jpeg:https://theorganicteachingkitchen.com/totk-2018/wp-content/uploads/2019/05/IMG_5054.jpg
END:VEVENT
BEGIN:VEVENT
DTSTART;TZID=America/New_York:20260408T151500
DTEND;TZID=America/New_York:20260408T161500
DTSTAMP:20260423T070606
CREATED:20190524T011324Z
LAST-MODIFIED:20260331T135754Z
UID:4485-1775661300-1775664900@theorganicteachingkitchen.com
SUMMARY:TWEENS COOKING CLASSES
DESCRIPTION:IN A BLINK OF THE EYE\, your tween will be leaving the nest. Give them a head start on independence by teaching them one of life’s most essential skills\, cooking. \nOur in-person tween nutrition + cooking classes go beyond the basics. Your child will build confidence in the kitchen\, explore new foods\, and learn how to create simple\, delicious\, and healthy meals they’ll actually want to make. \n In a small group\, your tween will:\n\nLearn to follow a recipe\nLearn how to use cooking equipment; food processor\, blenders\, mixers etc.\nLearn how to measure\, sauté\, whisk\nCook/bake using “nutritious” organic ingredients\nExperiment with new food.\n\nSet them up for success now\, with skills they’ll carry for life. We pride ourselves on using organic ingredients free of additives\, dyes\, pesticides & GMO’s. \n\nGluten and Vegetarian-Friendly. \nDATES – WEDNESDAYS  March 25\, Aril 8\, 15\, 22\, 29 \nTIME: 3:15-4:15pm \n$250 |5 sessions EMAIL  with questions \nPayments made using Zelle 914.582.9574 $250 or  PayPal $258.21 (includes cc  fee) \nCREATE YOUR OWN GROUP OF 4+ KIDS | EMAIL TO LEARN MORE
URL:https://theorganicteachingkitchen.com/event/kids-cooking/
LOCATION:NY
CATEGORIES:Cooking,Gluten Free,Kids Cook,kids cooking,organic cooking,organic cooking class,Organic Gardening,Snacks
ATTACH;FMTTYPE=image/jpeg:https://theorganicteachingkitchen.com/totk-2018/wp-content/uploads/2015/12/TWEENS-COOK.jpg
END:VEVENT
BEGIN:VEVENT
DTSTART;TZID=UTC:20260411T103000
DTEND;TZID=UTC:20260502T120000
DTSTAMP:20260423T070606
CREATED:20150717T143056Z
LAST-MODIFIED:20260316T210109Z
UID:1999-1775903400-1777723200@theorganicteachingkitchen.com
SUMMARY:21 Day Clean-Eating Course
DESCRIPTION:Change Your Food\, Change Your Health!\nReady For a Reset?\nMy 21-Day Clean Eating Course is a 3-week\, in-person experience designed to help you nourish your body with real\, whole foods—and feel the transformation from the inside out.  \nIt isn’t about dieting. It’s about learning how to fuel your body with delicious [recipes made with] veggies\, fresh fruits\, proteins\, healthy fats\, and whole grains so you can experience: \n\nMore Energy\nBetter mood and focus\nFewer cravings\nImproved digestion\nA healthier relationship with food\n\nDuring this program you’ll learn: \n✅ What to eat (with simple\, delicious recipes!)✅ How to shop and stock a clean  kitchen✅ How to decode food labels ✅ Easy meal planning and prep strategies ✅ How to beat sugar cravings and eat more intuitively \n\nYou will also receive a Clean Eating Manual\, recipes\, pantry guide\, 21-day journal and ongoing support throughout the program. \nIf you’ve been wanting a fresh start with your health\, this is your moment. Your reset starts with what’s on your plate. Next group starts April 11. In person in Croton or via Zoom. \n\n\n\n\n\n\n\n\n\n\n\n\nWHEN: Saturday April 11th\, 18th\, May 2nd  \nTIME: 10:30-12:00pm  \nCOST: $450 \nCreate Your Own Group or Private sessions –  contact me  \n  \n$595 – join with a friend\, $495 each (save $100 each)\, 3 or more\, $450 each (save $145 each) \nPay $595 via Zelle 914.582.9574 or $617.02 (includes processing fee) PAYPAL   \n 
URL:https://theorganicteachingkitchen.com/event/4-week-clean-eating-course/
LOCATION:The Organic Teaching Kitchen\, 18  Old Post Road South\, Croton-on-Hudson\, NY\, 10520\, United States
CATEGORIES:21-Day Cleanse,clean eating,Cooking,Gluten Free,Health Fats,Meditation,Soup,Superfoods
ATTACH;FMTTYPE=image/png:https://theorganicteachingkitchen.com/totk-2018/wp-content/uploads/2020/05/9A1A1A54-E4FC-4F35-894C-B2529236DD81.png
END:VEVENT
END:VCALENDAR