BEGIN:VCALENDAR
VERSION:2.0
PRODID:-//The Organic Teaching Kitchen - ECPv6.15.13//NONSGML v1.0//EN
CALSCALE:GREGORIAN
METHOD:PUBLISH
X-ORIGINAL-URL:https://theorganicteachingkitchen.com
X-WR-CALDESC:Events for The Organic Teaching Kitchen
REFRESH-INTERVAL;VALUE=DURATION:PT1H
X-Robots-Tag:noindex
X-PUBLISHED-TTL:PT1H
BEGIN:VTIMEZONE
TZID:UTC
BEGIN:STANDARD
TZOFFSETFROM:+0000
TZOFFSETTO:+0000
TZNAME:UTC
DTSTART:20170101T000000
END:STANDARD
END:VTIMEZONE
BEGIN:VEVENT
DTSTART;TZID=UTC:20180406T171500
DTEND;TZID=UTC:20180406T194500
DTSTAMP:20260419T080312
CREATED:20170228T000831Z
LAST-MODIFIED:20170228T000831Z
UID:2907-1523034900-1523043900@theorganicteachingkitchen.com
SUMMARY:Soup\,  Soul & Himalayan Bowls
DESCRIPTION:Join Sound Healer Michelle Clifton and Health Coach Susan Chasen for a nourishing evening that will feed your body and soul.  \nThe evening begins cooking in the kitchen prepping a seasonal soup and salad that’s organic\, gluten-free and vegetarian friendly.  \nThen\, Michelle will guide you in a wellness circle where you will experience deep relaxation while Himalayan Singing Bowls\, crystal bowls\, chimes\, tuning forks\, and tingsha are played in the room retuning and balancing your own vibration and awakening your body’s innate healing powers. \nWe will gather around the table together\, a circle of women\, maybe men\, to share a nourishing dinner\, a spirit of friendship and community. \nWHEN: Friday\, April 6th\, 2018 \nTIME:   5:15-7:45pm \nCOST:  $65 \nRSVP
URL:https://theorganicteachingkitchen.com/event/soup-n-soul-himalayan-bowls/
LOCATION:The Organic Teaching Kitchen\, 18  Old Post Road South\, Croton-on-Hudson\, NY\, 10520\, United States
CATEGORIES:Cooking,Gluten Free,Meditation,Soup
ATTACH;FMTTYPE=:
END:VEVENT
END:VCALENDAR